BEGIN:VCALENDAR
VERSION:2.0
PRODID:-//www.oxonraces.com//oxonraces//EN
METHOD:PUBLISH
BEGIN:VEVENT
UID:2026-09-06-overton-basingstoke@www.oxonraces.com
DESCRIPTION:details=http://www.oxonraces.com/#2026-09-06-overton-basingstoke\, length=5M\, cd=?\, eods=?\, results=?
LOCATION:RG25 3HD (Overton (Basingstoke))
SUMMARY:Overton 5 at 1030\, cd=?\, eods=?
DTSTART:20260906T103000Z
DTEND:20260906T113000Z
DTSTAMP:20260423T080804Z
URL:http://www.oxonraces.com/#2026-09-06-overton-basingstoke
END:VEVENT
END:VCALENDAR